BEGIN:VCALENDAR
VERSION:2.0
PRODID:-//Duikschool Den Haag | Montroux - ECPv6.5.0.1//NONSGML v1.0//EN
CALSCALE:GREGORIAN
METHOD:PUBLISH
X-ORIGINAL-URL:https://montroux.nl
X-WR-CALDESC:Evenementen voor Duikschool Den Haag | Montroux
REFRESH-INTERVAL;VALUE=DURATION:PT1H
X-Robots-Tag:noindex
X-PUBLISHED-TTL:PT1H
BEGIN:VTIMEZONE
TZID:UTC
BEGIN:STANDARD
TZOFFSETFROM:+0000
TZOFFSETTO:+0000
TZNAME:UTC
DTSTART:20180101T000000
END:STANDARD
END:VTIMEZONE
BEGIN:VEVENT
DTSTART;TZID=UTC:20180609T120000
DTEND;TZID=UTC:20180609T170000
DTSTAMP:20260422T192302
CREATED:20171231T122952Z
LAST-MODIFIED:20180322T180905Z
UID:288-1528545600-1528563600@montroux.nl
SUMMARY:BLS - First Aid dag 1
DESCRIPTION:Dit betreft een besloten evenement\, je kan je hier niet voor aanmelden. \nHeb je interesse in een DAN curus BLS\, First Aid of 1 van de andere opleidingen neem dan contact met ons op via\, info@montroux.nl
URL:https://montroux.nl/agenda/bls-first-aid-dag-1/
END:VEVENT
BEGIN:VEVENT
DTSTART;TZID=UTC:20180616T120000
DTEND;TZID=UTC:20180616T170000
DTSTAMP:20260422T192302
CREATED:20171231T123159Z
LAST-MODIFIED:20180322T181437Z
UID:290-1529150400-1529168400@montroux.nl
SUMMARY:BLS - First Aid dag 2
DESCRIPTION:Dit betreft een besloten evenemen\, je kan je hier niet voor opgeven. \nMocht je interesse hebben in BLS\, First Aid of 1 van de andere opleidingen neem dan contact met ons op via info@montroux.nl
URL:https://montroux.nl/agenda/bls-first-aid-dag-2/
END:VEVENT
BEGIN:VEVENT
DTSTART;VALUE=DATE:20180624
DTEND;VALUE=DATE:20180625
DTSTAMP:20260422T192302
CREATED:20180307T152551Z
LAST-MODIFIED:20180322T181525Z
UID:307-1529798400-1529884799@montroux.nl
SUMMARY:Search en Recovery
DESCRIPTION:Search en Recovery \nSearch en Recovery.\nHeb je het ooit wel eens meegemaakt dat je iets bent verloren onderwater?\nEen loodpocket van jezelf of een buddy? De ankerketting van een kleine boot afgebroken en het anker ligt nog ergens op de bodem? \nIn de specialty Search en Recovery leer onder andere het zoeken en bergen van een object.\nDiverse uitdagingen komen aan bod\, zoekpatronen en de hef ballon bij voorbeeld. \nLijkt het je wat? Neem contact op voor nadere informatie. \nKijk ook eens op onze facebook pagina.
URL:https://montroux.nl/agenda/search-en-recovery/
END:VEVENT
END:VCALENDAR