BEGIN:VCALENDAR
VERSION:2.0
PRODID:-//Duikschool Den Haag | Montroux - ECPv6.5.0.1//NONSGML v1.0//EN
CALSCALE:GREGORIAN
METHOD:PUBLISH
X-WR-CALNAME:Duikschool Den Haag | Montroux
X-ORIGINAL-URL:https://montroux.nl
X-WR-CALDESC:Evenementen voor Duikschool Den Haag | Montroux
REFRESH-INTERVAL;VALUE=DURATION:PT1H
X-Robots-Tag:noindex
X-PUBLISHED-TTL:PT1H
BEGIN:VTIMEZONE
TZID:UTC
BEGIN:STANDARD
TZOFFSETFROM:+0000
TZOFFSETTO:+0000
TZNAME:UTC
DTSTART:20180101T000000
END:STANDARD
END:VTIMEZONE
BEGIN:VEVENT
DTSTART;TZID=UTC:20180826T093000
DTEND;TZID=UTC:20180826T160000
DTSTAMP:20260422T225856
CREATED:20180812T142038Z
LAST-MODIFIED:20180812T142038Z
UID:337-1535275800-1535299200@montroux.nl
SUMMARY:DAN ALL INN dag 1
DESCRIPTION:DAN ALL INN.\nAlle 9 DAN opleidingen worden gegeven.\nMis je nog DAN opleidingen of is het tijd voor een herhaling dit is je kans.\nDag 1 26-08-2018: BLS\, AED\, Fist Aid\, peadiatric\nDag 2 9-09-2018: O2\, AO2\, Aquatic\nDag 3 23-09-2018: HMLI\, neuro\nJe kan meedoen aan alle dagen\, het ALL INN pakket (nieuwe opleiding en herhaling) of deelnemen aan een van de dagen (nieuwe opleiding en herhaling).\nNeem contact met ons op voor deelname mogelijkheden\, nadere informatie en/of de kosten.\nInfo@montroux.nl
URL:https://montroux.nl/agenda/dan-all-inn-dag-1/
LOCATION:Den Haag\, meppelweg 882\, Den Haag\, Nederland
END:VEVENT
BEGIN:VEVENT
DTSTART;TZID=UTC:20180909T093000
DTEND;TZID=UTC:20180909T160000
DTSTAMP:20260422T225856
CREATED:20180812T142304Z
LAST-MODIFIED:20180812T142304Z
UID:340-1536485400-1536508800@montroux.nl
SUMMARY:DAN ALL INN dag 2
DESCRIPTION:DAN ALL INN.\nAlle 9 DAN opleidingen worden gegeven.\nMis je nog DAN opleidingen of is het tijd voor een herhaling dit is je kans.\nDag 1 26-08-2018: BLS\, AED\, Fist Aid\, peadiatric\nDag 2 9-09-2018: O2\, AO2\, Aquatic\nDag 3 23-09-2018: HMLI\, neuro\nJe kan meedoen aan alle dagen\, het ALL INN pakket (nieuwe opleiding en herhaling) of deelnemen aan een van de dagen (nieuwe opleiding en herhaling).\nNeem contact met ons op voor deelname mogelijkheden\, nadere informatie en/of de kosten.\nInfo@montroux.nl
URL:https://montroux.nl/agenda/dan-all-inn-dag-2/
LOCATION:Den Haag\, meppelweg 882\, Den Haag\, Nederland
END:VEVENT
BEGIN:VEVENT
DTSTART;TZID=UTC:20180923T093000
DTEND;TZID=UTC:20180923T160000
DTSTAMP:20260422T225856
CREATED:20180812T142528Z
LAST-MODIFIED:20180812T142528Z
UID:342-1537695000-1537718400@montroux.nl
SUMMARY:DAN ALL INN dag 3
DESCRIPTION:DAN ALL INN.\nAlle 9 DAN opleidingen worden gegeven.\nMis je nog DAN opleidingen of is het tijd voor een herhaling dit is je kans.\nDag 1 26-08-2018: BLS\, AED\, Fist Aid\, peadiatric\nDag 2 9-09-2018: O2\, AO2\, Aquatic\nDag 3 23-09-2018: HMLI\, neuro\nJe kan meedoen aan alle dagen\, het ALL INN pakket (nieuwe opleiding en herhaling) of deelnemen aan een van de dagen (nieuwe opleiding en herhaling).\nNeem contact met ons op voor deelname mogelijkheden\, nadere informatie en/of de kosten.\nInfo@montroux.nl
URL:https://montroux.nl/agenda/dan-all-inn-dag-3/
LOCATION:Den Haag\, meppelweg 882\, Den Haag\, Nederland
END:VEVENT
BEGIN:VEVENT
DTSTART;TZID=UTC:20181202T093000
DTEND;TZID=UTC:20181202T160000
DTSTAMP:20260422T225856
CREATED:20181110T121125Z
LAST-MODIFIED:20181110T121125Z
UID:361-1543743000-1543766400@montroux.nl
SUMMARY:Fire Safety Officer\, kleine blusmiddelen
DESCRIPTION:Als je een brandblusser en/of blusdeken hebt thuis of op het werk\, dan is het handig om te weten hoe dat werkt en wanneer je deze wel of niet kan gebruiken. \nDat en meer leer je in de cursus Fire Safety Officer\, kleine blusmiddelen. \nIn de ochtend staat de theorie sessie op het programma. \nNa de lunch gaan we verder met het daadwerkelijk blussen van een kleine brand. Hiervoor worden verschillende blusmiddelen gebruikt\, zoals een schuimblusser en een blusdeken. \nAls afsluiter nog een oefening met een klein spel element. \nEr zijn geen voor vereisten voor deze cursus. De cursus kan ook gecombineerd worden met Basic Life Support + AED voor een BHV brevet. \nMeer weten of mee doen?  Neem dan contact met ons op.\ninfo@montroux.nl
URL:https://montroux.nl/agenda/fire-safety-officer-kleine-blusmiddelen/
LOCATION:Den Haag\, meppelweg 882\, Den Haag\, Nederland
END:VEVENT
BEGIN:VEVENT
DTSTART;TZID=UTC:20181209T093000
DTEND;TZID=UTC:20181209T160000
DTSTAMP:20260422T225856
CREATED:20181121T061650Z
LAST-MODIFIED:20181121T061650Z
UID:365-1544347800-1544371200@montroux.nl
SUMMARY:Herhalingscursus BLS\, AED\, First Aid
DESCRIPTION:Deze dag herhalen we de theorie en vaardigheden van de cursussen Basic Life Support\, AED en First Aid. \nHeb je deze cursussen nog niet gedaan en wil je deze wel doen? Dat kan ook op deze dag. \nVoor zowel de herhalingscursus als de nieuwe cursus zijn nog plaatsen vrij om mee te doen. \n  \nNadere informatie ontvang je door contact met ons op te nemen\, info@montroux.nl
URL:https://montroux.nl/agenda/herhalingscursus-bls-aed-first-aid/
LOCATION:Den Haag\, meppelweg 882\, Den Haag\, Nederland
END:VEVENT
BEGIN:VEVENT
DTSTART;VALUE=DATE:20190119
DTEND;VALUE=DATE:20190128
DTSTAMP:20260422T225856
CREATED:20180826T163829Z
LAST-MODIFIED:20180826T163829Z
UID:347-1547856000-1548633599@montroux.nl
SUMMARY:50e editie Boot Show
DESCRIPTION:19 t/m 27 januari 2019 vind de 50e editie van de Boot Show plaats. \nUiteraard is Protec International aanwezig is Hal 3\, stand D37 en C31. \nZoals u van Protec Nederland gewend bent zijn ook wij regelmatig aanwezig. \nKijk regelmatig op de website van Boot en de facebook pagina van Protec Nederland voor de laatste updates. \nhttps://www.facebook.com/ProTecNederland/ \nhttps://www.boat-duesseldorf.com/ \n  \n 
URL:https://montroux.nl/agenda/50e-editie-boot-show/
LOCATION:Dusseldorf\, dusseldorf\, Duitsland
END:VEVENT
BEGIN:VEVENT
DTSTART;TZID=UTC:20190422T100000
DTEND;TZID=UTC:20190422T160000
DTSTAMP:20260422T225856
CREATED:20190407T160843Z
LAST-MODIFIED:20190407T162807Z
UID:368-1555927200-1555948800@montroux.nl
SUMMARY:Specialty Zoeken en Bergen
DESCRIPTION:Iemand laat per ongeluk iets in het water vallen\,…. \nDan kan je gevraagd worden om het te gaan zoeken.  Dat is één van de goede dingen die het zo leuk maakt om duiker te zijn. Hoe dankbaar is het niet als je het verloren voorwerp vind en terug kan geven. \nJe leert deze dag diverse zoekpatronen en hoe een voorwerp te bergen. \nJe kan nog mee doen. \nVoor meer informatie stuur ons een mailtje\, info@montroux.nl
URL:https://montroux.nl/agenda/specialty-zoeken-en-bergen/
LOCATION:noord aa\, Het Lange Land\, Zoetermeer\, Nederland
ATTACH;FMTTYPE=image/jpeg:https://montroux.nl/wp-content/uploads/2018/03/SEARCH-RECOVERY-20168.jpg
END:VEVENT
BEGIN:VEVENT
DTSTART;TZID=UTC:20190426T193000
DTEND;TZID=UTC:20190426T220000
DTSTAMP:20260422T225856
CREATED:20190408T180800Z
LAST-MODIFIED:20190408T180800Z
UID:376-1556307000-1556316000@montroux.nl
SUMMARY:Introductie duik
DESCRIPTION:Er is weer een introductieduik in het zwembad. \nAltijd al onderwater willen ademen?\nAls een vis door het water gaan? \nProbeer het uit tijdens de introductieduik.! \nVoor meer informatie: info@montroux.nl
URL:https://montroux.nl/agenda/introductie-duik/
END:VEVENT
BEGIN:VEVENT
DTSTART;TZID=UTC:20190504T100000
DTEND;TZID=UTC:20190504T140000
DTSTAMP:20260422T225856
CREATED:20190407T162515Z
LAST-MODIFIED:20190407T170956Z
UID:372-1556964000-1556978400@montroux.nl
SUMMARY:Specialty advanced buoyancy control
DESCRIPTION:Er zijn weinig vaardigheden die zo nuttig zijn als een goede controle ver het drijfvermogen. \nWil jij op een efficiente manier duiken\, minder luchtverbruik\, minder energieverbruik en nog plezieriger duiken? \nGeef je op en doe mee met deze specialty. \nDeze specialty is verdeeld over 2 dagen\, 4 mei en 11 mei. \nVoor meer informatie mail je naar info@montroux.nl
URL:https://montroux.nl/agenda/specialty-advanced-buoyancy-control/
LOCATION:noord aa\, Het Lange Land\, Zoetermeer\, Nederland
ATTACH;FMTTYPE=image/png:https://montroux.nl/wp-content/uploads/2019/04/logo1.png
END:VEVENT
BEGIN:VEVENT
DTSTART;TZID=UTC:20190512T090000
DTEND;TZID=UTC:20190512T150000
DTSTAMP:20260422T225856
CREATED:20190424T111554Z
LAST-MODIFIED:20190424T111554Z
UID:380-1557651600-1557673200@montroux.nl
SUMMARY:Equipment specialty
DESCRIPTION:In de equipment specialty leer je de diverse onderdelen en materiaal soorten kennen van verschillende duikuitrustingsstukken. \nOok wordt je getoond / geleerd hoe verschillende onderhoudsprocessen in elkaar zitten. \nHoe je kleine eenvoudige reparaties het beste kan uitvoeren en wat je vooral wel en niet moet / kan doen. \nDit alles aan de hand van je eigen spullen en die van de instructeur. \nEr is nog plek voor 1 cursist dus geef je snel op. \nInfo@montroux.nl voor nadere informatie.
URL:https://montroux.nl/agenda/equipment-specialty/
ATTACH;FMTTYPE=image/png:https://montroux.nl/wp-content/uploads/2019/04/onderhoud.png
END:VEVENT
BEGIN:VEVENT
DTSTART;TZID=UTC:20190714T093000
DTEND;TZID=UTC:20190714T160000
DTSTAMP:20260422T225856
CREATED:20190515T052049Z
LAST-MODIFIED:20190515T052049Z
UID:385-1563096600-1563120000@montroux.nl
SUMMARY:Fire Safety Officer
DESCRIPTION:Een ongeluk zit in een klein hoekje. \nNu ook het BBQ\, kampvuur\, vuurkorf seizoen er weer aankomt is het handig om brandbestrijdingsmiddelen in huis te hebben EN om te weten hoe je ze moet gebruiken. \nIn de cursus Fire Safety Officer van DAN Europe (Divers Alert Network Europe) leer je:\nWat is brand\nBrandoorzaken en gevaren\nBrandklassen\, soorten brandblussers\nNoodplan in geval van brand\nBlussen van een kleine brand met verschillende blusmiddelen. \nEr is nog plaats voor deelnemers aan deze cursus.\nGeïnteresseerd of meer informatie? Neem contact met ons op:\ninfo@montroux.nl\n#FSO\, #DAN
URL:https://montroux.nl/agenda/fire-safety-officer/
LOCATION:Den Haag\, meppelweg 882\, Den Haag\, Nederland
END:VEVENT
BEGIN:VEVENT
DTSTART;TZID=UTC:20190728T093000
DTEND;TZID=UTC:20190728T160000
DTSTAMP:20260422T225856
CREATED:20190523T132041Z
LAST-MODIFIED:20190523T132041Z
UID:390-1564306200-1564329600@montroux.nl
SUMMARY:Basic Life Support + AED
DESCRIPTION:De cursus Basic Life Support + AED staat weer op het programma van Duikschool Montroux. \nDeze dag leer je reanimeren\, gebruik van een AED en levensreddende handelingen. \nIedereen kan mee doen! #savinglives #alsiederesecondetelt \nAls je het brevet moet verlengen of als je nog geen cursus hebt gedaan\, geef je nu op en doe mee. \nVoor opgeven en nadere informatie stuur een mailtje naar info@montroux.nl
URL:https://montroux.nl/agenda/basic-life-support-aed/
LOCATION:Den Haag\, meppelweg 882\, Den Haag\, Nederland
END:VEVENT
BEGIN:VEVENT
DTSTART;TZID=UTC:20220402T100000
DTEND;TZID=UTC:20220403T170000
DTSTAMP:20260422T225856
CREATED:20220330T081853Z
LAST-MODIFIED:20220330T081853Z
UID:409-1648893600-1649005200@montroux.nl
SUMMARY:Duikvaker
DESCRIPTION:De duikbeurs van Nederland. \nDe nieuwste duik- . snorkelmaterialen\, reizen\, verzekeringen\, lezingen en nog veel meer. \nwww.duikvaker.nl
URL:https://montroux.nl/agenda/duikvaker/
LOCATION:expo houten\, meidoornkade 24\, Houten\, 3992AE\, Nederland
END:VEVENT
BEGIN:VEVENT
DTSTART;TZID=UTC:20220417T100000
DTEND;TZID=UTC:20220417T130000
DTSTAMP:20260422T225856
CREATED:20220330T083103Z
LAST-MODIFIED:20220330T083103Z
UID:413-1650189600-1650200400@montroux.nl
SUMMARY:Paasduik
DESCRIPTION:Gezellige fun duik om het seizoen goed te beginnen. \nMinimaal Open Water duiker. \nMisschien komt de paashaas even langs met wat lekkers.
URL:https://montroux.nl/agenda/paasduik/
LOCATION:Zevenhuizerplas\, Parkeerplaats Strandweg 1\, Zevenhuizen\, 2761 DM\, Nederland
END:VEVENT
BEGIN:VEVENT
DTSTART;VALUE=DATE:20220922
DTEND;VALUE=DATE:20220926
DTSTAMP:20260422T225856
CREATED:20220330T082445Z
LAST-MODIFIED:20220330T082445Z
UID:411-1663804800-1664150399@montroux.nl
SUMMARY:Interdive friedrichshafen
DESCRIPTION:Duikbeurs in Friedrichshafen \, Duitsland. \nDe laatste trends in duiken\, duikmaterialen\, reizen en nog veel meer. \nIngang Oost via de Messestrasse 88046 Friedrichshafen \nParkeerplaats P-Ost 1 \nwww.friedrichshafen.inter-dive.de
URL:https://montroux.nl/agenda/interdive-friedrichshafen/
END:VEVENT
END:VCALENDAR